BEGIN:VCALENDAR
VERSION:2.0
PRODID:-//lincolnchildrensmuseum.org//NONSGML kigkonsult.se iCalcreator 2.3
 0.10//
CALSCALE:GREGORIAN
METHOD:PUBLISH
UID:761c8d69-d72b-4934-a376-170bd4a194eb
X-WR-CALDESC:<b>Registration is required.</b>\n\nWeekly one-hour sessions a
 re rooted in play showcasing music\, art\, and creativity\, along with soc
 ial interaction for young children and time for play in exhibits!\n\nThese
  educator-led sessions are an opportunity to strengthen each little one’s 
 fine and gross motor skills as well as expose them to new experiences with
  children similar in age. Sample S.T.E.A.M. experiences include Big Ball B
 ounce\, Spaghetti Stomp\, and Secret Scents.\n\nEach six-week program sess
 ion is limited to 10 child/caregiver pairs. This allows participants to ha
 ve special interaction with our educators and gives children and caregiver
 s ample time and space to move through guided activities with ease.\n\n<b>
 Members:</b> $105\n<b>Non-Members:</b> $130
X-WR-RELCALID:b7ab2e380a1e9e52d6fa3c1cd3a23fc6
X-WR-TIMEZONE:America/Chicago
BEGIN:VTIMEZONE
TZID:America/Chicago
BEGIN:STANDARD
TZNAME:CST
DTSTART:20241103T020000
TZOFFSETFROM:-0500
TZOFFSETTO:-0600
RDATE:20251102T020000
RDATE:20261101T020000
END:STANDARD
BEGIN:DAYLIGHT
TZNAME:CDT
DTSTART:20250309T020000
TZOFFSETFROM:-0600
TZOFFSETTO:-0500
RDATE:20260308T020000
END:DAYLIGHT
END:VTIMEZONE
BEGIN:VEVENT
UID:b73b9527-37c0-4482-a479-6d2f9eb950de
DTSTAMP:20260423T161228Z
DESCRIPTION:<b>Registration is required.</b>\n\nWeekly one-hour sessions ar
 e rooted in play showcasing music\, art\, and creativity\, along with soci
 al interaction for young children and time for play in exhibits!\n\nThese 
 educator-led sessions are an opportunity to strengthen each little one’s f
 ine and gross motor skills as well as expose them to new experiences with 
 children similar in age. Sample S.T.E.A.M. experiences include Big Ball Bo
 unce\, Spaghetti Stomp\, and Secret Scents.\n\nEach six-week program sessi
 on is limited to 10 child/caregiver pairs. This allows participants to hav
 e special interaction with our educators and gives children and caregivers
  ample time and space to move through guided activities with ease.\n\n<b>M
 embers:</b> $105\n<b>Non-Members:</b> $130
DTSTART;TZID=America/Chicago:20250514T083000
DTEND;TZID=America/Chicago:20250514T100000
LOCATION:Lincoln Children's Museum\, 1420 P Street\, Lincoln\, NE 68508 US
SUMMARY:Wednesday Mornings - Spring Session 2
END:VEVENT
END:VCALENDAR
