BEGIN:VCALENDAR
VERSION:2.0
PRODID:-//lincolnchildrensmuseum.org//NONSGML kigkonsult.se iCalcreator 2.3
 0.10//
CALSCALE:GREGORIAN
METHOD:PUBLISH
UID:5127eb4d-6e5b-43ab-85e0-eb3ada5f6d33
X-WR-CALDESC:Math is everywhere\, and at Lincoln Children’s Museum\, we’re 
 making it hands-on and fun! Join us each weekend in Tinker Theater Powered
  by Molex for Math Happens\, a special temporary experience designed to sh
 ow kids that math lives in the world all around them.\n\nThrough hands-on 
 puzzles\, patterns\, and problem-solving activities\, kids will explore th
 e fun and creativity behind math while building confidence and curiosity a
 long the way.\n \nWeekend Schedule\nSaturday: 9:30 AM–2:30 PM\nSunday: 11:
 30 AM–3:30 PM\n \nThis event is free for members and included with admissi
 on for the general public.
X-WR-RELCALID:74c0721b99355311939194d048b17861
X-WR-TIMEZONE:America/Chicago
BEGIN:VTIMEZONE
TZID:America/Chicago
BEGIN:STANDARD
TZNAME:CST
DTSTART:20271107T020000
TZOFFSETFROM:-0500
TZOFFSETTO:-0600
RDATE:20281105T020000
RDATE:20291104T020000
END:STANDARD
BEGIN:DAYLIGHT
TZNAME:CDT
DTSTART:20280312T020000
TZOFFSETFROM:-0600
TZOFFSETTO:-0500
RDATE:20290311T020000
RDATE:20300310T020000
END:DAYLIGHT
END:VTIMEZONE
BEGIN:VEVENT
UID:f7664c49-33e2-40d8-b90e-a6dce37f82fd
DTSTAMP:20260423T023309Z
DESCRIPTION:Math is everywhere\, and at Lincoln Children’s Museum\, we’re m
 aking it hands-on and fun! Join us each weekend in Tinker Theater Powered 
 by Molex for Math Happens\, a special temporary experience designed to sho
 w kids that math lives in the world all around them.\n\nThrough hands-on p
 uzzles\, patterns\, and problem-solving activities\, kids will explore the
  fun and creativity behind math while building confidence and curiosity al
 ong the way.\n \nWeekend Schedule\nSaturday: 9:30 AM–2:30 PM\nSunday: 11:3
 0 AM–3:30 PM\n \nThis event is free for members and included with admissio
 n for the general public.
DTSTART;TZID=America/Chicago:20281104T093000
DTEND;TZID=America/Chicago:20281104T143000
LOCATION:1420 P Street\, Lincoln\, NE 68508 US
SUMMARY:Math Happens
END:VEVENT
END:VCALENDAR
