BEGIN:VCALENDAR
VERSION:2.0
PRODID:-//lincolnchildrensmuseum.org//NONSGML kigkonsult.se iCalcreator 2.3
 0.10//
CALSCALE:GREGORIAN
METHOD:PUBLISH
UID:3760adff-f66f-4ca4-bf0e-38ceb8091d33
X-WR-CALDESC:Math is everywhere\, and at Lincoln Children’s Museum\, we’re 
 making it hands-on and fun! Join us each weekend in Tinker Theater Powered
  by Molex for Math Happens\, a special temporary experience designed to sh
 ow kids that math lives in the world all around them.\n\nThrough hands-on 
 puzzles\, patterns\, and problem-solving activities\, kids will explore th
 e fun and creativity behind math while building confidence and curiosity a
 long the way.\n \nWeekend Schedule\nSaturday: 9:30 AM–2:30 PM\nSunday: 11:
 30 AM–3:30 PM\n \nThis event is free for members and included with admissi
 on for the general public.
X-WR-RELCALID:0ef1633b06d02deaac673b649efd127e
X-WR-TIMEZONE:America/Chicago
BEGIN:VTIMEZONE
TZID:America/Chicago
BEGIN:STANDARD
TZNAME:CST
DTSTART:20271107T020000
TZOFFSETFROM:-0500
TZOFFSETTO:-0600
RDATE:20281105T020000
RDATE:20291104T020000
END:STANDARD
BEGIN:DAYLIGHT
TZNAME:CDT
DTSTART:20280312T020000
TZOFFSETFROM:-0600
TZOFFSETTO:-0500
RDATE:20290311T020000
END:DAYLIGHT
END:VTIMEZONE
BEGIN:VEVENT
UID:f2054734-ff52-4847-87c4-ce242156d80b
DTSTAMP:20260422T222747Z
DESCRIPTION:Math is everywhere\, and at Lincoln Children’s Museum\, we’re m
 aking it hands-on and fun! Join us each weekend in Tinker Theater Powered 
 by Molex for Math Happens\, a special temporary experience designed to sho
 w kids that math lives in the world all around them.\n\nThrough hands-on p
 uzzles\, patterns\, and problem-solving activities\, kids will explore the
  fun and creativity behind math while building confidence and curiosity al
 ong the way.\n \nWeekend Schedule\nSaturday: 9:30 AM–2:30 PM\nSunday: 11:3
 0 AM–3:30 PM\n \nThis event is free for members and included with admissio
 n for the general public.
DTSTART;TZID=America/Chicago:20280805T093000
DTEND;TZID=America/Chicago:20280805T143000
LOCATION:1420 P Street\, Lincoln\, NE 68508 US
SUMMARY:Math Happens
END:VEVENT
END:VCALENDAR
