BEGIN:VCALENDAR
VERSION:2.0
PRODID:-//lincolnchildrensmuseum.org//NONSGML kigkonsult.se iCalcreator 2.3
 0.10//
CALSCALE:GREGORIAN
METHOD:PUBLISH
UID:8b8b83e5-b4e6-4e03-a42a-a9bbbf5ca763
X-WR-CALDESC:Math is everywhere\, and at Lincoln Children’s Museum\, we’re 
 making it hands-on and fun! Join us each weekend in Tinker Theater Powered
  by Molex for Math Happens\, a special temporary experience designed to sh
 ow kids that math lives in the world all around them.\n\nThrough hands-on 
 puzzles\, patterns\, and problem-solving activities\, kids will explore th
 e fun and creativity behind math while building confidence and curiosity a
 long the way.\n \nWeekend Schedule\nSaturday: 9:30 AM–2:30 PM\nSunday: 11:
 30 AM–3:30 PM\n \nThis event is free for members and included with admissi
 on for the general public.
X-WR-RELCALID:2ec18f7ae306e7c0eb08051be4adbc72
X-WR-TIMEZONE:America/Chicago
BEGIN:VTIMEZONE
TZID:America/Chicago
BEGIN:STANDARD
TZNAME:CST
DTSTART:20251102T020000
TZOFFSETFROM:-0500
TZOFFSETTO:-0600
RDATE:20261101T020000
RDATE:20271107T020000
END:STANDARD
BEGIN:DAYLIGHT
TZNAME:CDT
DTSTART:20260308T020000
TZOFFSETFROM:-0600
TZOFFSETTO:-0500
RDATE:20270314T020000
RDATE:20280312T020000
END:DAYLIGHT
END:VTIMEZONE
BEGIN:VEVENT
UID:04d92965-4f16-4c6c-be00-e0c0e85cc379
DTSTAMP:20260421T130951Z
DESCRIPTION:Math is everywhere\, and at Lincoln Children’s Museum\, we’re m
 aking it hands-on and fun! Join us each weekend in Tinker Theater Powered 
 by Molex for Math Happens\, a special temporary experience designed to sho
 w kids that math lives in the world all around them.\n\nThrough hands-on p
 uzzles\, patterns\, and problem-solving activities\, kids will explore the
  fun and creativity behind math while building confidence and curiosity al
 ong the way.\n \nWeekend Schedule\nSaturday: 9:30 AM–2:30 PM\nSunday: 11:3
 0 AM–3:30 PM\n \nThis event is free for members and included with admissio
 n for the general public.
DTSTART;TZID=America/Chicago:20261017T093000
DTEND;TZID=America/Chicago:20261017T143000
LOCATION:1420 P Street\, Lincoln\, NE 68508 US
SUMMARY:Math Happens
END:VEVENT
END:VCALENDAR
